BEGIN:VCALENDAR
VERSION:2.0
PRODID:-//Cholesbury-cum-St Leonard&#039;s Parish Council - ECPv6.15.18//NONSGML v1.0//EN
CALSCALE:GREGORIAN
METHOD:PUBLISH
X-WR-CALNAME:Cholesbury-cum-St Leonard&#039;s Parish Council
X-ORIGINAL-URL:https://cholesburyparishcouncil.org.uk
X-WR-CALDESC:Events for Cholesbury-cum-St Leonard&#039;s Parish Council
REFRESH-INTERVAL;VALUE=DURATION:PT1H
X-Robots-Tag:noindex
X-PUBLISHED-TTL:PT1H
BEGIN:VTIMEZONE
TZID:Europe/London
BEGIN:DAYLIGHT
TZOFFSETFROM:+0000
TZOFFSETTO:+0100
TZNAME:BST
DTSTART:20190331T010000
END:DAYLIGHT
BEGIN:STANDARD
TZOFFSETFROM:+0100
TZOFFSETTO:+0000
TZNAME:GMT
DTSTART:20191027T010000
END:STANDARD
BEGIN:DAYLIGHT
TZOFFSETFROM:+0000
TZOFFSETTO:+0100
TZNAME:BST
DTSTART:20200329T010000
END:DAYLIGHT
BEGIN:STANDARD
TZOFFSETFROM:+0100
TZOFFSETTO:+0000
TZNAME:GMT
DTSTART:20201025T010000
END:STANDARD
BEGIN:DAYLIGHT
TZOFFSETFROM:+0000
TZOFFSETTO:+0100
TZNAME:BST
DTSTART:20210328T010000
END:DAYLIGHT
BEGIN:STANDARD
TZOFFSETFROM:+0100
TZOFFSETTO:+0000
TZNAME:GMT
DTSTART:20211031T010000
END:STANDARD
BEGIN:DAYLIGHT
TZOFFSETFROM:+0000
TZOFFSETTO:+0100
TZNAME:BST
DTSTART:20220327T010000
END:DAYLIGHT
BEGIN:STANDARD
TZOFFSETFROM:+0100
TZOFFSETTO:+0000
TZNAME:GMT
DTSTART:20221030T010000
END:STANDARD
BEGIN:DAYLIGHT
TZOFFSETFROM:+0000
TZOFFSETTO:+0100
TZNAME:BST
DTSTART:20230326T010000
END:DAYLIGHT
BEGIN:STANDARD
TZOFFSETFROM:+0100
TZOFFSETTO:+0000
TZNAME:GMT
DTSTART:20231029T010000
END:STANDARD
BEGIN:DAYLIGHT
TZOFFSETFROM:+0000
TZOFFSETTO:+0100
TZNAME:BST
DTSTART:20240331T010000
END:DAYLIGHT
BEGIN:STANDARD
TZOFFSETFROM:+0100
TZOFFSETTO:+0000
TZNAME:GMT
DTSTART:20241027T010000
END:STANDARD
END:VTIMEZONE
BEGIN:VEVENT
DTSTART;TZID=Europe/London:20230228T183000
DTEND;TZID=Europe/London:20230228T183000
DTSTAMP:20260422T154435
CREATED:20260304T135749Z
LAST-MODIFIED:20260304T135749Z
UID:11297-1677609000-1677609000@cholesburyparishcouncil.org.uk
SUMMARY:Parish Council Meeting
DESCRIPTION:This meeting will be held at St Leonards Parish Hall at 6.30pm and members of the public are welcome to attend. Please see the agenda (when available) for more details.
URL:https://cholesburyparishcouncil.org.uk/event/parish-council-meeting-34
LOCATION:St Leonards Parish Hall\, Jenkins Lane\, St Leonards\, HP23 6NW
CATEGORIES:Parish Council Meetings
END:VEVENT
BEGIN:VEVENT
DTSTART;TZID=Europe/London:20230124T183000
DTEND;TZID=Europe/London:20230124T183000
DTSTAMP:20260422T154435
CREATED:20260304T135709Z
LAST-MODIFIED:20260304T135709Z
UID:11294-1674585000-1674585000@cholesburyparishcouncil.org.uk
SUMMARY:Parish Council Meeting
DESCRIPTION:This meeting will be held at St Leonards Parish Hall at 6.30pm and members of the public are welcome to attend. Please see the agenda (when available) for more details.
URL:https://cholesburyparishcouncil.org.uk/event/parish-council-meeting-33
LOCATION:St Leonards Parish Hall\, Jenkins Lane\, St Leonards\, HP23 6NW
CATEGORIES:Parish Council Meetings
END:VEVENT
BEGIN:VEVENT
DTSTART;TZID=Europe/London:20221129T183000
DTEND;TZID=Europe/London:20221129T183000
DTSTAMP:20260422T154435
CREATED:20260304T135628Z
LAST-MODIFIED:20260304T135628Z
UID:11291-1669746600-1669746600@cholesburyparishcouncil.org.uk
SUMMARY:Parish Council Meeting
DESCRIPTION:This meeting will be held at St Leonards Parish Hall at 6.30pm and members of the public are welcome to attend. Please see the agenda (when available) for more details.
URL:https://cholesburyparishcouncil.org.uk/event/parish-council-meeting-32
LOCATION:St Leonards Parish Hall\, Jenkins Lane\, St Leonards\, HP23 6NW
CATEGORIES:Parish Council Meetings
END:VEVENT
BEGIN:VEVENT
DTSTART;TZID=Europe/London:20221025T183000
DTEND;TZID=Europe/London:20221025T183000
DTSTAMP:20260422T154435
CREATED:20260304T135444Z
LAST-MODIFIED:20260304T135444Z
UID:11288-1666722600-1666722600@cholesburyparishcouncil.org.uk
SUMMARY:Parish Council Meeting
DESCRIPTION:This meeting will be held at St Leonards Parish Hall at 6.30pm and members of the public are welcome to attend. Please see the agenda (when available) for more details.
URL:https://cholesburyparishcouncil.org.uk/event/parish-council-meeting-31
LOCATION:St Leonards Parish Hall\, Jenkins Lane\, St Leonards\, HP23 6NW
CATEGORIES:Parish Council Meetings
END:VEVENT
BEGIN:VEVENT
DTSTART;TZID=Europe/London:20220927T183000
DTEND;TZID=Europe/London:20220927T183000
DTSTAMP:20260422T154435
CREATED:20260304T135409Z
LAST-MODIFIED:20260304T135409Z
UID:11285-1664303400-1664303400@cholesburyparishcouncil.org.uk
SUMMARY:Parish Council Meeting
DESCRIPTION:This meeting will be held at St Leonards Parish Hall at 6.30pm and members of the public are welcome to attend. Please see the agenda (when available) for more details.
URL:https://cholesburyparishcouncil.org.uk/event/parish-council-meeting-30
LOCATION:St Leonards Parish Hall\, Jenkins Lane\, St Leonards\, HP23 6NW
CATEGORIES:Parish Council Meetings
END:VEVENT
BEGIN:VEVENT
DTSTART;TZID=Europe/London:20220802T183000
DTEND;TZID=Europe/London:20220802T183000
DTSTAMP:20260422T154435
CREATED:20260304T135329Z
LAST-MODIFIED:20260304T135329Z
UID:11282-1659465000-1659465000@cholesburyparishcouncil.org.uk
SUMMARY:Parish Council Meeting
DESCRIPTION:This meeting will be held at St Leonards Parish Hall at 6.30pm and members of the public are welcome to attend. Please see the agenda (when available) for more details.
URL:https://cholesburyparishcouncil.org.uk/event/parish-council-meeting-29
LOCATION:St Leonards Parish Hall\, Jenkins Lane\, St Leonards\, HP23 6NW
CATEGORIES:Parish Council Meetings
END:VEVENT
BEGIN:VEVENT
DTSTART;TZID=Europe/London:20220621T183000
DTEND;TZID=Europe/London:20220621T183000
DTSTAMP:20260422T154435
CREATED:20260304T135243Z
LAST-MODIFIED:20260304T135243Z
UID:11279-1655836200-1655836200@cholesburyparishcouncil.org.uk
SUMMARY:Parish Council Meeting
DESCRIPTION:This meeting will be held at St Leonards Parish Hall at 6.30pm and members of the public are welcome to attend. Please see the agenda (when available) for more details.
URL:https://cholesburyparishcouncil.org.uk/event/parish-council-meeting-28
LOCATION:St Leonards Parish Hall\, Jenkins Lane\, St Leonards\, HP23 6NW
CATEGORIES:Parish Council Meetings
END:VEVENT
BEGIN:VEVENT
DTSTART;TZID=Europe/London:20220531T183000
DTEND;TZID=Europe/London:20220531T183000
DTSTAMP:20260422T154435
CREATED:20260304T135146Z
LAST-MODIFIED:20260304T135146Z
UID:11276-1654021800-1654021800@cholesburyparishcouncil.org.uk
SUMMARY:Parish Council Meeting
DESCRIPTION:This meeting will be held at St Leonards Parish Hall at 6.30pm and members of the public are welcome to attend. Please see the agenda (when available) for more details.
URL:https://cholesburyparishcouncil.org.uk/event/parish-council-meeting-27
LOCATION:St Leonards Parish Hall\, Jenkins Lane\, St Leonards\, HP23 6NW
CATEGORIES:Parish Council Meetings
END:VEVENT
BEGIN:VEVENT
DTSTART;TZID=Europe/London:20220419T183000
DTEND;TZID=Europe/London:20220419T183000
DTSTAMP:20260422T154435
CREATED:20260304T135046Z
LAST-MODIFIED:20260304T135046Z
UID:11273-1650393000-1650393000@cholesburyparishcouncil.org.uk
SUMMARY:Parish Council Meeting
DESCRIPTION:This meeting will be held at St Leonards Parish Hall at 6.30pm and members of the public are welcome to attend. Please see the agenda (when available) for more details.
URL:https://cholesburyparishcouncil.org.uk/event/parish-council-meeting-26
LOCATION:St Leonards Parish Hall\, Jenkins Lane\, St Leonards\, HP23 6NW
CATEGORIES:Parish Council Meetings
END:VEVENT
BEGIN:VEVENT
DTSTART;TZID=Europe/London:20220328T183000
DTEND;TZID=Europe/London:20220328T183000
DTSTAMP:20260422T154435
CREATED:20260304T142231Z
LAST-MODIFIED:20260304T142231Z
UID:11334-1648492200-1648492200@cholesburyparishcouncil.org.uk
SUMMARY:Parish Council Meeting
DESCRIPTION:This meeting will be held at St Leonards Parish Hall at 6.30pm and members of the public are welcome to attend. Please see the agenda (when available) for more details.
URL:https://cholesburyparishcouncil.org.uk/event/parish-council-meeting-44
LOCATION:St Leonards Parish Hall\, Jenkins Lane\, St Leonards\, HP23 6NW
CATEGORIES:Parish Council Meetings
END:VEVENT
BEGIN:VEVENT
DTSTART;TZID=Europe/London:20220228T183000
DTEND;TZID=Europe/London:20220228T183000
DTSTAMP:20260422T154435
CREATED:20260304T142157Z
LAST-MODIFIED:20260304T142157Z
UID:11331-1646073000-1646073000@cholesburyparishcouncil.org.uk
SUMMARY:Parish Council Meeting
DESCRIPTION:This meeting will be held at St Leonards Parish Hall at 6.30pm and members of the public are welcome to attend. Please see the agenda (when available) for more details.
URL:https://cholesburyparishcouncil.org.uk/event/parish-council-meeting-43
LOCATION:St Leonards Parish Hall\, Jenkins Lane\, St Leonards\, HP23 6NW
CATEGORIES:Parish Council Meetings
END:VEVENT
BEGIN:VEVENT
DTSTART;TZID=Europe/London:20220131T183000
DTEND;TZID=Europe/London:20220131T183000
DTSTAMP:20260422T154435
CREATED:20260304T142119Z
LAST-MODIFIED:20260304T142119Z
UID:11328-1643653800-1643653800@cholesburyparishcouncil.org.uk
SUMMARY:Parish Council Meeting
DESCRIPTION:This meeting will be held at St Leonards Parish Hall at 6.30pm and members of the public are welcome to attend. Please see the agenda (when available) for more details.
URL:https://cholesburyparishcouncil.org.uk/event/parish-council-meeting-42
LOCATION:St Leonards Parish Hall\, Jenkins Lane\, St Leonards\, HP23 6NW
CATEGORIES:Parish Council Meetings
END:VEVENT
BEGIN:VEVENT
DTSTART;TZID=Europe/London:20211129T183000
DTEND;TZID=Europe/London:20211129T183000
DTSTAMP:20260422T154435
CREATED:20260304T142027Z
LAST-MODIFIED:20260304T142027Z
UID:11325-1638210600-1638210600@cholesburyparishcouncil.org.uk
SUMMARY:Parish Council Meeting
DESCRIPTION:This meeting will be held at St Leonards Parish Hall at 6.30pm and members of the public are welcome to attend. Please see the agenda (when available) for more details.
URL:https://cholesburyparishcouncil.org.uk/event/parish-council-meeting-41
LOCATION:St Leonards Parish Hall\, Jenkins Lane\, St Leonards\, HP23 6NW
CATEGORIES:Parish Council Meetings
END:VEVENT
BEGIN:VEVENT
DTSTART;TZID=Europe/London:20211025T183000
DTEND;TZID=Europe/London:20211025T183000
DTSTAMP:20260422T154435
CREATED:20260304T141949Z
LAST-MODIFIED:20260304T141949Z
UID:11322-1635186600-1635186600@cholesburyparishcouncil.org.uk
SUMMARY:Parish Council Meeting
DESCRIPTION:This meeting will be held at St Leonards Parish Hall at 6.30pm and members of the public are welcome to attend. Please see the agenda (when available) for more details.
URL:https://cholesburyparishcouncil.org.uk/event/parish-council-meeting-40
LOCATION:St Leonards Parish Hall\, Jenkins Lane\, St Leonards\, HP23 6NW
CATEGORIES:Parish Council Meetings
END:VEVENT
BEGIN:VEVENT
DTSTART;TZID=Europe/London:20210927T183000
DTEND;TZID=Europe/London:20210927T183000
DTSTAMP:20260422T154435
CREATED:20260304T141911Z
LAST-MODIFIED:20260304T141911Z
UID:11319-1632767400-1632767400@cholesburyparishcouncil.org.uk
SUMMARY:Parish Council Meeting
DESCRIPTION:This meeting will be held at St Leonards Parish Hall at 6.30pm and members of the public are welcome to attend. Please see the agenda (when available) for more details.
URL:https://cholesburyparishcouncil.org.uk/event/parish-council-meeting-39
LOCATION:St Leonards Parish Hall\, Jenkins Lane\, St Leonards\, HP23 6NW
CATEGORIES:Parish Council Meetings
END:VEVENT
BEGIN:VEVENT
DTSTART;TZID=Europe/London:20210726T183000
DTEND;TZID=Europe/London:20210726T183000
DTSTAMP:20260422T154435
CREATED:20260304T141813Z
LAST-MODIFIED:20260304T141825Z
UID:11315-1627324200-1627324200@cholesburyparishcouncil.org.uk
SUMMARY:Parish Council Meeting
DESCRIPTION:This meeting will be held at St Leonards Parish Hall at 6.30pm and members of the public are welcome to attend. Please see the agenda (when available) for more details.
URL:https://cholesburyparishcouncil.org.uk/event/11315
LOCATION:St Leonards Parish Hall\, Jenkins Lane\, St Leonards\, HP23 6NW
CATEGORIES:Parish Council Meetings
END:VEVENT
BEGIN:VEVENT
DTSTART;TZID=Europe/London:20210628T183000
DTEND;TZID=Europe/London:20210628T183000
DTSTAMP:20260422T154435
CREATED:20260304T141720Z
LAST-MODIFIED:20260304T141720Z
UID:11312-1624905000-1624905000@cholesburyparishcouncil.org.uk
SUMMARY:Parish Council Meeting
DESCRIPTION:This meeting will be held at St Leonards Parish Hall at 6.30pm and members of the public are welcome to attend. Please see the agenda (when available) for more details.
URL:https://cholesburyparishcouncil.org.uk/event/parish-council-meeting-38
LOCATION:St Leonards Parish Hall\, Jenkins Lane\, St Leonards\, HP23 6NW
CATEGORIES:Parish Council Meetings
END:VEVENT
BEGIN:VEVENT
DTSTART;TZID=Europe/London:20210517T183000
DTEND;TZID=Europe/London:20210517T183000
DTSTAMP:20260422T154435
CREATED:20260304T141636Z
LAST-MODIFIED:20260304T141636Z
UID:11309-1621276200-1621276200@cholesburyparishcouncil.org.uk
SUMMARY:Parish Council Meeting
DESCRIPTION:This meeting will be held at St Leonards Parish Hall at 6.30pm and members of the public are welcome to attend. Please see the agenda (when available) for more details.
URL:https://cholesburyparishcouncil.org.uk/event/parish-council-meeting-37
LOCATION:St Leonards Parish Hall\, Jenkins Lane\, St Leonards\, HP23 6NW
CATEGORIES:Parish Council Meetings
END:VEVENT
BEGIN:VEVENT
DTSTART;TZID=Europe/London:20210427T183000
DTEND;TZID=Europe/London:20210427T183000
DTSTAMP:20260422T154435
CREATED:20260304T141544Z
LAST-MODIFIED:20260304T141544Z
UID:11306-1619548200-1619548200@cholesburyparishcouncil.org.uk
SUMMARY:Parish Council Meeting
DESCRIPTION:This meeting will be held at St Leonards Parish Hall at 6.30pm and members of the public are welcome to attend. Please see the agenda (when available) for more details.
URL:https://cholesburyparishcouncil.org.uk/event/parish-council-meeting-36
LOCATION:St Leonards Parish Hall\, Jenkins Lane\, St Leonards\, HP23 6NW
CATEGORIES:Parish Council Meetings
END:VEVENT
BEGIN:VEVENT
DTSTART;TZID=Europe/London:20210420T183000
DTEND;TZID=Europe/London:20210420T183000
DTSTAMP:20260422T154435
CREATED:20260304T141434Z
LAST-MODIFIED:20260304T141434Z
UID:11303-1618943400-1618943400@cholesburyparishcouncil.org.uk
SUMMARY:Planning Meeting
DESCRIPTION:This meeting will be held at St Leonards Parish Hall at 6.30pm and members of the public are welcome to attend. Please see the agenda (when available) for more details.
URL:https://cholesburyparishcouncil.org.uk/event/planning-meeting
LOCATION:St Leonards Parish Hall\, Jenkins Lane\, St Leonards\, HP23 6NW
CATEGORIES:Parish Council Meetings
END:VEVENT
BEGIN:VEVENT
DTSTART;TZID=Europe/London:20210329T183000
DTEND;TZID=Europe/London:20210329T183000
DTSTAMP:20260422T154435
CREATED:20260304T143359Z
LAST-MODIFIED:20260304T143359Z
UID:11362-1617042600-1617042600@cholesburyparishcouncil.org.uk
SUMMARY:Parish Council Meeting
DESCRIPTION:This meeting will be held at St Leonards Parish Hall at 6.30pm and members of the public are welcome to attend. Please see the agenda (when available) for more details.
URL:https://cholesburyparishcouncil.org.uk/event/parish-council-meeting-53
LOCATION:St Leonards Parish Hall\, Jenkins Lane\, St Leonards\, HP23 6NW
CATEGORIES:Parish Council Meetings
END:VEVENT
BEGIN:VEVENT
DTSTART;TZID=Europe/London:20210222T183000
DTEND;TZID=Europe/London:20210222T183000
DTSTAMP:20260422T154435
CREATED:20260304T143328Z
LAST-MODIFIED:20260304T143331Z
UID:11358-1614018600-1614018600@cholesburyparishcouncil.org.uk
SUMMARY:Parish Council Meeting
DESCRIPTION:This meeting will be held at St Leonards Parish Hall at 6.30pm and members of the public are welcome to attend. Please see the agenda (when available) for more details.
URL:https://cholesburyparishcouncil.org.uk/event/parish-council-meeting-52
LOCATION:St Leonards Parish Hall\, Jenkins Lane\, St Leonards\, HP23 6NW
CATEGORIES:Parish Council Meetings
END:VEVENT
BEGIN:VEVENT
DTSTART;TZID=Europe/London:20210118T183000
DTEND;TZID=Europe/London:20210118T183000
DTSTAMP:20260422T154435
CREATED:20260304T143250Z
LAST-MODIFIED:20260304T143250Z
UID:11355-1610994600-1610994600@cholesburyparishcouncil.org.uk
SUMMARY:Parish Council Meeting
DESCRIPTION:This meeting will be held at St Leonards Parish Hall at 6.30pm and members of the public are welcome to attend. Please see the agenda (when available) for more details.
URL:https://cholesburyparishcouncil.org.uk/event/parish-council-meeting-51
LOCATION:St Leonards Parish Hall\, Jenkins Lane\, St Leonards\, HP23 6NW
CATEGORIES:Parish Council Meetings
END:VEVENT
BEGIN:VEVENT
DTSTART;TZID=Europe/London:20201130T183000
DTEND;TZID=Europe/London:20201130T183000
DTSTAMP:20260422T154435
CREATED:20260304T143212Z
LAST-MODIFIED:20260304T143212Z
UID:11352-1606761000-1606761000@cholesburyparishcouncil.org.uk
SUMMARY:Parish Council Meeting
DESCRIPTION:This meeting will be held at St Leonards Parish Hall at 6.30pm and members of the public are welcome to attend. Please see the agenda (when available) for more details.
URL:https://cholesburyparishcouncil.org.uk/event/parish-council-meeting-50
LOCATION:St Leonards Parish Hall\, Jenkins Lane\, St Leonards\, HP23 6NW
CATEGORIES:Parish Council Meetings
END:VEVENT
BEGIN:VEVENT
DTSTART;TZID=Europe/London:20201026T183000
DTEND;TZID=Europe/London:20201026T183000
DTSTAMP:20260422T154435
CREATED:20260304T143135Z
LAST-MODIFIED:20260304T143135Z
UID:11349-1603737000-1603737000@cholesburyparishcouncil.org.uk
SUMMARY:Parish Council Meeting
DESCRIPTION:This meeting will be held at St Leonards Parish Hall at 6.30pm and members of the public are welcome to attend. Please see the agenda (when available) for more details.
URL:https://cholesburyparishcouncil.org.uk/event/parish-council-meeting-49
LOCATION:St Leonards Parish Hall\, Jenkins Lane\, St Leonards\, HP23 6NW
CATEGORIES:Parish Council Meetings
END:VEVENT
BEGIN:VEVENT
DTSTART;TZID=Europe/London:20200928T183000
DTEND;TZID=Europe/London:20200928T183000
DTSTAMP:20260422T154435
CREATED:20260304T142943Z
LAST-MODIFIED:20260304T142943Z
UID:11346-1601317800-1601317800@cholesburyparishcouncil.org.uk
SUMMARY:Parish Council Meeting
DESCRIPTION:This meeting will be held at St Leonards Parish Hall at 6.30pm and members of the public are welcome to attend. Please see the agenda (when available) for more details.
URL:https://cholesburyparishcouncil.org.uk/event/parish-council-meeting-48
LOCATION:St Leonards Parish Hall\, Jenkins Lane\, St Leonards\, HP23 6NW
CATEGORIES:Parish Council Meetings
END:VEVENT
BEGIN:VEVENT
DTSTART;TZID=Europe/London:20200727T183000
DTEND;TZID=Europe/London:20200727T183000
DTSTAMP:20260422T154435
CREATED:20260304T142900Z
LAST-MODIFIED:20260304T142900Z
UID:11343-1595874600-1595874600@cholesburyparishcouncil.org.uk
SUMMARY:Parish Council Meeting
DESCRIPTION:This meeting will be held at St Leonards Parish Hall at 6.30pm and members of the public are welcome to attend. Please see the agenda (when available) for more details.
URL:https://cholesburyparishcouncil.org.uk/event/parish-council-meeting-47
LOCATION:St Leonards Parish Hall\, Jenkins Lane\, St Leonards\, HP23 6NW
CATEGORIES:Parish Council Meetings
END:VEVENT
BEGIN:VEVENT
DTSTART;TZID=Europe/London:20200629T183000
DTEND;TZID=Europe/London:20200629T183000
DTSTAMP:20260422T154435
CREATED:20260304T142734Z
LAST-MODIFIED:20260304T142734Z
UID:11340-1593455400-1593455400@cholesburyparishcouncil.org.uk
SUMMARY:Parish Council Meeting
DESCRIPTION:This meeting will be held at St Leonards Parish Hall at 6.30pm and members of the public are welcome to attend. Please see the agenda (when available) for more details.
URL:https://cholesburyparishcouncil.org.uk/event/parish-council-meeting-46
LOCATION:St Leonards Parish Hall\, Jenkins Lane\, St Leonards\, HP23 6NW
CATEGORIES:Parish Council Meetings
END:VEVENT
BEGIN:VEVENT
DTSTART;TZID=Europe/London:20200424T183000
DTEND;TZID=Europe/London:20200424T183000
DTSTAMP:20260422T154435
CREATED:20260304T142649Z
LAST-MODIFIED:20260304T142649Z
UID:11337-1587753000-1587753000@cholesburyparishcouncil.org.uk
SUMMARY:Parish Council Meeting
DESCRIPTION:This meeting will be held at St Leonards Parish Hall at 6.30pm and members of the public are welcome to attend. Please see the agenda (when available) for more details.
URL:https://cholesburyparishcouncil.org.uk/event/parish-council-meeting-45
LOCATION:St Leonards Parish Hall\, Jenkins Lane\, St Leonards\, HP23 6NW
CATEGORIES:Parish Council Meetings
END:VEVENT
END:VCALENDAR