BEGIN:VCALENDAR
VERSION:2.0
PRODID:-//Cholesbury-cum-St Leonard&#039;s Parish Council - ECPv6.15.18//NONSGML v1.0//EN
CALSCALE:GREGORIAN
METHOD:PUBLISH
X-WR-CALNAME:Cholesbury-cum-St Leonard&#039;s Parish Council
X-ORIGINAL-URL:https://cholesburyparishcouncil.org.uk
X-WR-CALDESC:Events for Cholesbury-cum-St Leonard&#039;s Parish Council
REFRESH-INTERVAL;VALUE=DURATION:PT1H
X-Robots-Tag:noindex
X-PUBLISHED-TTL:PT1H
BEGIN:VTIMEZONE
TZID:Europe/London
BEGIN:DAYLIGHT
TZOFFSETFROM:+0000
TZOFFSETTO:+0100
TZNAME:BST
DTSTART:20190331T010000
END:DAYLIGHT
BEGIN:STANDARD
TZOFFSETFROM:+0100
TZOFFSETTO:+0000
TZNAME:GMT
DTSTART:20191027T010000
END:STANDARD
BEGIN:DAYLIGHT
TZOFFSETFROM:+0000
TZOFFSETTO:+0100
TZNAME:BST
DTSTART:20200329T010000
END:DAYLIGHT
BEGIN:STANDARD
TZOFFSETFROM:+0100
TZOFFSETTO:+0000
TZNAME:GMT
DTSTART:20201025T010000
END:STANDARD
BEGIN:DAYLIGHT
TZOFFSETFROM:+0000
TZOFFSETTO:+0100
TZNAME:BST
DTSTART:20210328T010000
END:DAYLIGHT
BEGIN:STANDARD
TZOFFSETFROM:+0100
TZOFFSETTO:+0000
TZNAME:GMT
DTSTART:20211031T010000
END:STANDARD
END:VTIMEZONE
BEGIN:VEVENT
DTSTART;TZID=Europe/London:20201026T183000
DTEND;TZID=Europe/London:20201026T183000
DTSTAMP:20260422T184439
CREATED:20260304T143135Z
LAST-MODIFIED:20260304T143135Z
UID:11349-1603737000-1603737000@cholesburyparishcouncil.org.uk
SUMMARY:Parish Council Meeting
DESCRIPTION:This meeting will be held at St Leonards Parish Hall at 6.30pm and members of the public are welcome to attend. Please see the agenda (when available) for more details.
URL:https://cholesburyparishcouncil.org.uk/event/parish-council-meeting-49
LOCATION:St Leonards Parish Hall\, Jenkins Lane\, St Leonards\, HP23 6NW
CATEGORIES:Parish Council Meetings
END:VEVENT
BEGIN:VEVENT
DTSTART;TZID=Europe/London:20200928T183000
DTEND;TZID=Europe/London:20200928T183000
DTSTAMP:20260422T184439
CREATED:20260304T142943Z
LAST-MODIFIED:20260304T142943Z
UID:11346-1601317800-1601317800@cholesburyparishcouncil.org.uk
SUMMARY:Parish Council Meeting
DESCRIPTION:This meeting will be held at St Leonards Parish Hall at 6.30pm and members of the public are welcome to attend. Please see the agenda (when available) for more details.
URL:https://cholesburyparishcouncil.org.uk/event/parish-council-meeting-48
LOCATION:St Leonards Parish Hall\, Jenkins Lane\, St Leonards\, HP23 6NW
CATEGORIES:Parish Council Meetings
END:VEVENT
BEGIN:VEVENT
DTSTART;TZID=Europe/London:20200727T183000
DTEND;TZID=Europe/London:20200727T183000
DTSTAMP:20260422T184439
CREATED:20260304T142900Z
LAST-MODIFIED:20260304T142900Z
UID:11343-1595874600-1595874600@cholesburyparishcouncil.org.uk
SUMMARY:Parish Council Meeting
DESCRIPTION:This meeting will be held at St Leonards Parish Hall at 6.30pm and members of the public are welcome to attend. Please see the agenda (when available) for more details.
URL:https://cholesburyparishcouncil.org.uk/event/parish-council-meeting-47
LOCATION:St Leonards Parish Hall\, Jenkins Lane\, St Leonards\, HP23 6NW
CATEGORIES:Parish Council Meetings
END:VEVENT
BEGIN:VEVENT
DTSTART;TZID=Europe/London:20200629T183000
DTEND;TZID=Europe/London:20200629T183000
DTSTAMP:20260422T184439
CREATED:20260304T142734Z
LAST-MODIFIED:20260304T142734Z
UID:11340-1593455400-1593455400@cholesburyparishcouncil.org.uk
SUMMARY:Parish Council Meeting
DESCRIPTION:This meeting will be held at St Leonards Parish Hall at 6.30pm and members of the public are welcome to attend. Please see the agenda (when available) for more details.
URL:https://cholesburyparishcouncil.org.uk/event/parish-council-meeting-46
LOCATION:St Leonards Parish Hall\, Jenkins Lane\, St Leonards\, HP23 6NW
CATEGORIES:Parish Council Meetings
END:VEVENT
BEGIN:VEVENT
DTSTART;TZID=Europe/London:20200424T183000
DTEND;TZID=Europe/London:20200424T183000
DTSTAMP:20260422T184439
CREATED:20260304T142649Z
LAST-MODIFIED:20260304T142649Z
UID:11337-1587753000-1587753000@cholesburyparishcouncil.org.uk
SUMMARY:Parish Council Meeting
DESCRIPTION:This meeting will be held at St Leonards Parish Hall at 6.30pm and members of the public are welcome to attend. Please see the agenda (when available) for more details.
URL:https://cholesburyparishcouncil.org.uk/event/parish-council-meeting-45
LOCATION:St Leonards Parish Hall\, Jenkins Lane\, St Leonards\, HP23 6NW
CATEGORIES:Parish Council Meetings
END:VEVENT
END:VCALENDAR